BEGIN:VCALENDAR
VERSION:2.0
PRODID:-//ChamberMaster//Event Calendar 2.0//EN
METHOD:PUBLISH
X-PUBLISHED-TTL:P3D
REFRESH-INTERVAL:P3D
CALSCALE:GREGORIAN
BEGIN:VEVENT
DTSTART:20230719T230000Z
DTEND:20230720T000000Z
X-MICROSOFT-CDO-ALLDAYEVENT:FALSE
SUMMARY:Ribbon Cutting- Forefathers Cheesesteaks-Fries-Salads
DESCRIPTION:Please join the Chandler chamber of Commerce and celebrate Forefathers Cheesesteaks-Fries-Salads\n\nFor over two years prior to opening\, the Crump family home became an experimental kitchen. Family and friends\, test subjects. From the amazing roll to the fry sauce to the irresistible chocolate chip cookie\, every item on Forefathers' menu has a story.\n\nThe theme of Philly cheesesteaks was chosen because they are just so darn tasty when done right and it was nearly impossible to get an authentic cheesesteak anywhere on the West coast. The restaurant name\, Forefathers\, was chosen as a way to pay homage to the founding fathers of our country and the ''founding fathers'' of the Philly cheesesteak. The restaurant was designed to portray the look and feel of a professional chain concept with unique family touches\, including a hallway that honors people who have given their lives as the ultimate sacrifice
X-ALT-DESC;FMTTYPE=text/html:Please join the Chandler chamber of Commerce and celebrate <strong>Forefathers Cheesesteaks-Fries-Salads</strong><br />\nFor over two years prior to opening\, the Crump family home became an experimental kitchen. Family and friends\, test subjects. From the amazing roll to the fry sauce to the irresistible chocolate chip cookie\, every item on Forefathers&#39\; menu has a story.<br />\nThe theme of Philly cheesesteaks was chosen because they are just so darn tasty when done right and it was nearly impossible to get an authentic cheesesteak anywhere on the West coast. The restaurant name\, Forefathers\, was chosen as a way to pay homage to the founding fathers of our country and the &#39\;&#39\;founding fathers&#39\;&#39\; of the Philly cheesesteak. The restaurant was designed to portray the look and feel of a professional chain concept with unique family touches\, including a hallway that honors people who have given their lives as the ultimate sacrifice
LOCATION:Forefathers cheesesteaks-Fries-Salads 1075 W Queen Creek Rd #1 Chandler\, AZ 85248
UID:e.1561.48457
SEQUENCE:3
DTSTAMP:20260425T115312Z
URL:https://business.chandlerchamber.com/events/details/ribbon-cutting-forefathers-cheesesteaks-fries-salads-48457
END:VEVENT

END:VCALENDAR
