BEGIN:VCALENDAR
VERSION:2.0
PRODID:-//ChamberMaster//Event Calendar 2.0//EN
METHOD:PUBLISH
X-PUBLISHED-TTL:P3D
REFRESH-INTERVAL:P3D
CALSCALE:GREGORIAN
BEGIN:VEVENT
DTSTART:20150225T233000Z
DTEND:20150226T003000Z
X-MICROSOFT-CDO-ALLDAYEVENT:FALSE
SUMMARY:Ribbon Cutting @ Fresh Millions
DESCRIPTION:Join the Chandler Chamber at the Ribbon Cutting for Fresh Millions\, ribbon cutting\, food sampling\, beverages\, raffle prizes and more! Thank you to our ribbon sponsor Laser Creations.
X-ALT-DESC;FMTTYPE=text/html:Join the Chandler Chamber at the Ribbon Cutting for Fresh Millions\, ribbon cutting\, food sampling\, beverages\, raffle prizes and more! Thank you to our ribbon sponsor Laser Creations.&nbsp\;
LOCATION:6140 W Chandler Blvd Chandler\, AZ 85226 NW Corner of Chandler and Kyrene
UID:e.1561.12470
SEQUENCE:3
DTSTAMP:20260426T002757Z
URL:https://business.chandlerchamber.com/events/details/ribbon-cutting-fresh-millions-02-25-2015-12470
END:VEVENT

END:VCALENDAR
