BEGIN:VCALENDAR
VERSION:2.0
PRODID:-//ChamberMaster//Event Calendar 2.0//EN
METHOD:PUBLISH
X-PUBLISHED-TTL:P3D
REFRESH-INTERVAL:P3D
CALSCALE:GREGORIAN
BEGIN:VEVENT
DTSTART:20150211T233000Z
DTEND:20150212T003000Z
X-MICROSOFT-CDO-ALLDAYEVENT:FALSE
SUMMARY:Ribbon Cutting @ FrinGo's Kitchen
DESCRIPTION:Join us in celebrating the Ribbon Cutting for FrinGo's Kitchen! Including ribbon cutting and refreshments\, beverages and a raffle. \n\n\n\n*Thank you to our ribbon sponsor\, Laser Creations.
X-ALT-DESC;FMTTYPE=text/html:Join us in celebrating the Ribbon Cutting for FrinGo&#39\;s Kitchen! Including ribbon cutting and refreshments\, beverages and a raffle.&nbsp\;<br />\n<br />\n*Thank you to our ribbon sponsor\, Laser Creations.
LOCATION:2160 North Alma School Rd Suite 116 Chandler\, AZ 85224 North of Warner Rd on West Side
UID:e.1561.11980
SEQUENCE:3
DTSTAMP:20260426T015316Z
URL:https://business.chandlerchamber.com/events/details/ribbon-cutting-fringo-s-kitchen-02-11-2015-11980
END:VEVENT

END:VCALENDAR
