BEGIN:VCALENDAR
VERSION:2.0
PRODID:-//ChamberMaster//Event Calendar 2.0//EN
METHOD:PUBLISH
X-PUBLISHED-TTL:P3D
REFRESH-INTERVAL:P3D
CALSCALE:GREGORIAN
BEGIN:VEVENT
DTSTART:20230307T210000Z
DTEND:20230307T220000Z
X-MICROSOFT-CDO-ALLDAYEVENT:FALSE
SUMMARY:Ribbon Cutting - Gett'Yo Tacos\, Burritos & Sliders
DESCRIPTION:Please join the Chandler Chamber of Commerce and celebrate the ribbon cutting and 5 year Anniversary celebration of Gett'Yo Tacos\, Burritos & Sliders!\n\nGhett' yo' taco is an urban taqueria in downtown Chandler that specializes in street-style tacos. you can find Ghett' yo' taco in the colorful\, spray-painted day of the dead-themed mural painted by artist\, Lalo Cota on the building behind the perch in downtown Chandler at 241 S. Oregon Street
X-ALT-DESC;FMTTYPE=text/html:<p><span style="font-size:14px\;"><span style="font-family:tahoma\;">Please join the Chandler Chamber of Commerce and celebrate the ribbon cutting and 5 year Anniversary celebration of Gett'Yo Tacos\, Burritos &amp\; Sliders!</span></span></p>\n\n<p><span style="font-size:14px\;"><span style="font-family:tahoma\;"><span style="color: rgb(0\, 0\, 0)\; text-align: center\; background-color: rgb(249\, 249\, 249)\;">Ghett' yo' taco is an urban taqueria in downtown Chandler that specializes in street-style tacos. you can find Ghett' yo' taco in the colorful\, spray-painted day of the dead-themed mural painted by artist\, Lalo Cota on the building behind the perch in downtown Chandler at 241 S. Oregon Street</span></span></span></p>\n
LOCATION:241 S Oregon St. Chandler\, AZ 85225
UID:e.1561.44662
SEQUENCE:3
DTSTAMP:20260423T203045Z
URL:https://business.chandlerchamber.com/events/details/ribbon-cutting-gett-yo-tacos-burritos-sliders-44662
END:VEVENT

END:VCALENDAR
