BEGIN:VCALENDAR
VERSION:2.0
PRODID:-//ChamberMaster//Event Calendar 2.0//EN
METHOD:PUBLISH
X-PUBLISHED-TTL:P3D
REFRESH-INTERVAL:P3D
CALSCALE:GREGORIAN
BEGIN:VEVENT
DTSTART:20150326T233000Z
DTEND:20150327T003000Z
X-MICROSOFT-CDO-ALLDAYEVENT:FALSE
SUMMARY:Ribbon Cutting / Grand Opening @ Chandler Christian Community Center
DESCRIPTION:Join us for the ribbon cutting and grand opening of Chandler Christian Community Center!\n\n\n\n* thank you to our ribbon sponsor\, Laser Creations
X-ALT-DESC;FMTTYPE=text/html:Join us for the ribbon cutting and grand opening of Chandler Christian Community Center!<br />\n<br />\n* thank you to our ribbon sponsor\, Laser Creations
LOCATION:345 S California St Chandler\, AZ 85224
UID:e.1561.12627
SEQUENCE:3
DTSTAMP:20260425T225712Z
URL:https://business.chandlerchamber.com/events/details/ribbon-cutting-grand-opening-chandler-christian-community-center-03-26-2015-12627
END:VEVENT

END:VCALENDAR
