BEGIN:VCALENDAR
VERSION:2.0
PRODID:-//ChamberMaster//Event Calendar 2.0//EN
METHOD:PUBLISH
X-PUBLISHED-TTL:P3D
REFRESH-INTERVAL:P3D
CALSCALE:GREGORIAN
BEGIN:VEVENT
DTSTART:20170919T230000Z
DTEND:20170920T000000Z
X-MICROSOFT-CDO-ALLDAYEVENT:FALSE
SUMMARY:Ribbon Cutting - Grand Opening for Backfit Health & Spine
DESCRIPTION:Join us for a Ribbon Cutting - Grand Opening of Backfit Health & Spine 7th Location\n\n*Thank you to our ribbon sponsor Laser Creations*      \n\n\n\n*Free food & drinks\n\n*Free chair massage\n\n*Free event tee\n\n*Bungee trampoline\n\n*Over $2000 in prizes\n\n*Music - Live DJ
X-ALT-DESC;FMTTYPE=text/html:Join us for a Ribbon Cutting - Grand Opening of Backfit Health &amp\; Spine 7th Location<br />\n*Thank you to our ribbon sponsor Laser Creations* &nbsp\; &nbsp\; &nbsp\;<br />\n<br />\n*Free food &amp\; drinks<br />\n*Free chair massage<br />\n*Free event tee<br />\n*Bungee trampoline<br />\n*Over $2000 in prizes<br />\n*Music - Live DJ<br />\n<br />\n&nbsp\;
LOCATION:2815 E. Ocotillo Rd. Chandler\, AZ. 85249 (SW corner of Ocotillo & McQueen.)
UID:e.1561.19118
SEQUENCE:3
DTSTAMP:20260424T051537Z
URL:https://business.chandlerchamber.com/events/details/ribbon-cutting-grand-opening-for-backfit-health-spine-19118
END:VEVENT

END:VCALENDAR
