BEGIN:VCALENDAR
VERSION:2.0
PRODID:-//ChamberMaster//Event Calendar 2.0//EN
METHOD:PUBLISH
X-PUBLISHED-TTL:P3D
REFRESH-INTERVAL:P3D
CALSCALE:GREGORIAN
BEGIN:VEVENT
DTSTART:20180815T230000Z
DTEND:20180816T000000Z
X-MICROSOFT-CDO-ALLDAYEVENT:FALSE
SUMMARY:Ribbon Cutting & Grand Opening for Parkland Memory Care
DESCRIPTION:Join the Chandler Chamber at the Ribbon Cutting/Grand  Opening for\n\nParkland Memory Care
X-ALT-DESC;FMTTYPE=text/html:Join the Chandler Chamber at the Ribbon Cutting/Grand&nbsp\; Opening for<br />\nParkland Memory Care&nbsp\;&nbsp\;&nbsp\;&nbsp\;&nbsp\;&nbsp\;&nbsp\;&nbsp\;&nbsp\;&nbsp\;&nbsp\;&nbsp\;
LOCATION:3500 S Arizona Ave Chandler\, AZ 85248 (west side of Arizona Ave between Queen Creek & Ocotillo Rd)
UID:e.1561.33704
SEQUENCE:3
DTSTAMP:20260423T152240Z
URL:https://business.chandlerchamber.com/events/details/ribbon-cutting-grand-opening-for-parkland-memory-care-33704
END:VEVENT

END:VCALENDAR
