BEGIN:VCALENDAR
VERSION:2.0
PRODID:-//ChamberMaster//Event Calendar 2.0//EN
METHOD:PUBLISH
X-PUBLISHED-TTL:P3D
REFRESH-INTERVAL:P3D
CALSCALE:GREGORIAN
BEGIN:VEVENT
DTSTART:20180620T233000Z
DTEND:20180621T003000Z
X-MICROSOFT-CDO-ALLDAYEVENT:FALSE
SUMMARY:Ribbon Cutting & Grand Opening for Residence Inn Chandler Ocotillo
DESCRIPTION:Join the Chandler Chamber for the Ribbon Cutting & Grand Opening for Residence Inn Chandler Ocotillo\n\n\n\n*Thank you to our ribbon sponsor Laser Creations*
X-ALT-DESC;FMTTYPE=text/html:Join the Chandler Chamber for the Ribbon Cutting &amp\; Grand Opening for Residence Inn Chandler Ocotillo<br />\n<br />\n*Thank you to our ribbon sponsor Laser Creations*&nbsp\;&nbsp\;&nbsp\;&nbsp\;&nbsp\;&nbsp\;&nbsp\;&nbsp\;
LOCATION:2727 W Queen Creek Rd Chandler\, AZ 85248 (SW corner Dobson Rd/Queen Creek Rd)
UID:e.1561.33663
SEQUENCE:3
DTSTAMP:20260423T164048Z
URL:https://business.chandlerchamber.com/events/details/ribbon-cutting-grand-opening-for-residence-inn-chandler-ocotillo-33663
END:VEVENT

END:VCALENDAR
