BEGIN:VCALENDAR
VERSION:2.0
PRODID:-//ChamberMaster//Event Calendar 2.0//EN
METHOD:PUBLISH
X-PUBLISHED-TTL:P3D
REFRESH-INTERVAL:P3D
CALSCALE:GREGORIAN
BEGIN:VEVENT
DTSTART:20171024T230000Z
DTEND:20171025T010000Z
X-MICROSOFT-CDO-ALLDAYEVENT:FALSE
SUMMARY:Ribbon Cutting Grand Opening of Arizona Medical and Sports Rehab
DESCRIPTION:
X-ALT-DESC;FMTTYPE=text/html:
LOCATION:1840 E Warner Rd Suite 120 Tempe AZ 85284
UID:e.1561.19106
SEQUENCE:3
DTSTAMP:20260424T051637Z
URL:https://business.chandlerchamber.com/events/details/ribbon-cutting-grand-opening-of-arizona-medical-and-sports-rehab-19106
END:VEVENT

END:VCALENDAR
