BEGIN:VCALENDAR
VERSION:2.0
PRODID:-//ChamberMaster//Event Calendar 2.0//EN
METHOD:PUBLISH
X-PUBLISHED-TTL:P3D
REFRESH-INTERVAL:P3D
CALSCALE:GREGORIAN
BEGIN:VEVENT
DTSTART:20171006T223000Z
DTEND:20171006T233000Z
X-MICROSOFT-CDO-ALLDAYEVENT:FALSE
SUMMARY:Ribbon Cutting & Grand Re-Opening of Shoppers Supply
DESCRIPTION:Ribbon Cutting & Grand Re-Opening for Shoppers Supply
X-ALT-DESC;FMTTYPE=text/html:Ribbon Cutting &amp\; Grand Re-Opening for Shoppers Supply&nbsp\;&nbsp\;&nbsp\;&nbsp\;&nbsp\;&nbsp\;&nbsp\;&nbsp\;&nbsp\;&nbsp\;&nbsp\;&nbsp\;
LOCATION:2880 S Alma School Rd Chandler AZ 85286 NW corner Alma School/Queen Creek Thank you to our Ribbon Sponsor: Laser Creations
UID:e.1561.19046
SEQUENCE:3
DTSTAMP:20260424T035750Z
URL:https://business.chandlerchamber.com/events/details/ribbon-cutting-grand-re-opening-of-shoppers-supply-19046
END:VEVENT

END:VCALENDAR
