BEGIN:VCALENDAR
VERSION:2.0
PRODID:-//ChamberMaster//Event Calendar 2.0//EN
METHOD:PUBLISH
X-PUBLISHED-TTL:P3D
REFRESH-INTERVAL:P3D
CALSCALE:GREGORIAN
BEGIN:VEVENT
DTSTART:20150317T233000Z
DTEND:20150318T003000Z
X-MICROSOFT-CDO-ALLDAYEVENT:FALSE
SUMMARY:Ribbon Cutting @ GRAZ Kitchen Fresh
DESCRIPTION:Join us for the ribbon cutting at GRAZ Kitchen Fresh. Ribbon cutting\, food\, beverages\, and prizes! Do not miss the fun. \n\n\n\n*Thank you to our ribbon sponsor\, Laser Creations.
X-ALT-DESC;FMTTYPE=text/html:Join us for the ribbon cutting at&nbsp\;GRAZ&nbsp\;Kitchen Fresh. Ribbon cutting\, food\, beverages\, and prizes! Do not miss the fun.&nbsp\;<br />\n<br />\n*Thank you to our ribbon sponsor\, Laser Creations.&nbsp\;
LOCATION:1005 S. Arizona Ave Suite 6 Chandler\, AZ 85225 South East Corner of Arizona and Pecos
UID:e.1561.12475
SEQUENCE:3
DTSTAMP:20260425T224921Z
URL:https://business.chandlerchamber.com/events/details/ribbon-cutting-graz-kitchen-fresh-03-17-2015-12475
END:VEVENT

END:VCALENDAR
