BEGIN:VCALENDAR
VERSION:2.0
PRODID:-//ChamberMaster//Event Calendar 2.0//EN
METHOD:PUBLISH
X-PUBLISHED-TTL:P3D
REFRESH-INTERVAL:P3D
CALSCALE:GREGORIAN
BEGIN:VEVENT
DTSTART:20150910T010000Z
DTEND:20150910T020000Z
X-MICROSOFT-CDO-ALLDAYEVENT:FALSE
SUMMARY:Ribbon Cutting- Great Hearts Arizona- Lincoln Preparatory Academy
DESCRIPTION:Ribbon Cutting for Great Hearts Arizona- Lincoln Preparatory Academy!\n\nJoin the Celebration.\n\n\n\nRibbon Cutting and dedication\, followed by refreshments and remarks from Headmaster Leanne Fawcett & Great Hearts Board Chairman Jay Heiler
X-ALT-DESC;FMTTYPE=text/html:Ribbon Cutting for Great Hearts Arizona- Lincoln Preparatory Academy!<br />\nJoin the Celebration.<br />\n<br />\nRibbon Cutting and dedication\, followed by refreshments and remarks from Headmaster Leanne Fawcett &amp\; Great Hearts Board Chairman Jay Heiler
LOCATION:Great Hearts Arizona 2250 S Gilbert Rd Chandler\, AZ 85286 Gilbert Rd (South of Germann on west side of Gilbert Rd)
UID:e.1561.13176
SEQUENCE:3
DTSTAMP:20260425T170516Z
URL:https://business.chandlerchamber.com/events/details/ribbon-cutting-great-hearts-arizona-lincoln-preparatory-academy-09-09-2015-13176
END:VEVENT

END:VCALENDAR
