BEGIN:VCALENDAR
VERSION:2.0
PRODID:-//ChamberMaster//Event Calendar 2.0//EN
METHOD:PUBLISH
X-PUBLISHED-TTL:P3D
REFRESH-INTERVAL:P3D
CALSCALE:GREGORIAN
BEGIN:VEVENT
DTSTART:20221213T160000Z
DTEND:20221213T200000Z
X-MICROSOFT-CDO-ALLDAYEVENT:FALSE
SUMMARY:Ribbon Cutting Gummi World
DESCRIPTION:
X-ALT-DESC;FMTTYPE=text/html:
LOCATION:Gummi World 370 N Juniper Dr STE 10 Chandler\, AZ 85226
UID:e.1561.44379
SEQUENCE:3
DTSTAMP:20260423T185323Z
URL:https://business.chandlerchamber.com/events/details/ribbon-cutting-gummi-world-44379
END:VEVENT

END:VCALENDAR
