BEGIN:VCALENDAR
VERSION:2.0
PRODID:-//ChamberMaster//Event Calendar 2.0//EN
METHOD:PUBLISH
X-PUBLISHED-TTL:P3D
REFRESH-INTERVAL:P3D
CALSCALE:GREGORIAN
BEGIN:VEVENT
DTSTART:20150407T233000Z
DTEND:20150408T003000Z
X-MICROSOFT-CDO-ALLDAYEVENT:FALSE
SUMMARY:Ribbon Cutting @ Heaven's Glory Boutique
DESCRIPTION:Join us for the Ribbon cutting at Heaven's Glory Boutique. Ribbon cutting and refreshments. \n\n\n\nThanks to our ribbon sponsor: Laser Creations!
X-ALT-DESC;FMTTYPE=text/html:Join us for the Ribbon cutting at Heaven&#39\;s Glory Boutique. Ribbon cutting and refreshments.&nbsp\;<br />\n<br />\nThanks to our ribbon sponsor: Laser Creations!
LOCATION:1900 W Germann Rd #12 Chandler\, AZ 85286 NE Corner Germann and Dobson
UID:e.1561.12647
SEQUENCE:3
DTSTAMP:20260425T213436Z
URL:https://business.chandlerchamber.com/events/details/ribbon-cutting-heaven-s-glory-boutique-04-07-2015-12647
END:VEVENT

END:VCALENDAR
