BEGIN:VCALENDAR
VERSION:2.0
PRODID:-//ChamberMaster//Event Calendar 2.0//EN
METHOD:PUBLISH
X-PUBLISHED-TTL:P3D
REFRESH-INTERVAL:P3D
CALSCALE:GREGORIAN
BEGIN:VEVENT
DTSTART:20150922T233000Z
DTEND:20150923T003000Z
X-MICROSOFT-CDO-ALLDAYEVENT:FALSE
SUMMARY:Ribbon Cutting- House of Barbers & Stylists
DESCRIPTION:Ribbon Cutting for House of Barbers & Stylists! Come join the celebration.
X-ALT-DESC;FMTTYPE=text/html:Ribbon Cutting for House of Barbers &amp\; Stylists! Come join the celebration.
LOCATION:House of Barbers & Stylists 961 W. Ray Road\, Ste 9 Chandler\, AZ 85225 SE corner of Alma School School & Ray
UID:e.1561.13181
SEQUENCE:3
DTSTAMP:20260425T170529Z
URL:https://business.chandlerchamber.com/events/details/ribbon-cutting-house-of-barbers-stylists-09-22-2015-13181
END:VEVENT

END:VCALENDAR
