BEGIN:VCALENDAR
VERSION:2.0
PRODID:-//ChamberMaster//Event Calendar 2.0//EN
METHOD:PUBLISH
X-PUBLISHED-TTL:P3D
REFRESH-INTERVAL:P3D
CALSCALE:GREGORIAN
BEGIN:VEVENT
DTSTART:20220330T230000Z
DTEND:20220331T000000Z
X-MICROSOFT-CDO-ALLDAYEVENT:FALSE
SUMMARY:Ribbon Cutting - iFlex Stretch Studio
DESCRIPTION:Come join us and celebrate the new first of many iFlex Stretch Studio ribbon cutting!
X-ALT-DESC;FMTTYPE=text/html:Come join us and celebrate the new first of many iFlex Stretch Studio ribbon cutting!
LOCATION:7131 W Ray Rd # 38 Chandler\, AZ 85226
UID:e.1561.40652
SEQUENCE:3
DTSTAMP:20260423T233821Z
URL:https://business.chandlerchamber.com/events/details/ribbon-cutting-iflex-stretch-studio-40652
END:VEVENT

END:VCALENDAR
