BEGIN:VCALENDAR
VERSION:2.0
PRODID:-//ChamberMaster//Event Calendar 2.0//EN
METHOD:PUBLISH
X-PUBLISHED-TTL:P3D
REFRESH-INTERVAL:P3D
CALSCALE:GREGORIAN
BEGIN:VEVENT
DTSTART:20150117T180000Z
DTEND:20150117T190000Z
X-MICROSOFT-CDO-ALLDAYEVENT:FALSE
SUMMARY:Ribbon Cutting @ Infinity Care Health Specialist
DESCRIPTION:Join the Chandler Chamber of Commerce at the Ribbon Cutting for Inifinity Care Health Specialist! \n\n\n\n*Thank you to our ribbon sponsor Laser Creations\, www.lasercreationsaz.com
X-ALT-DESC;FMTTYPE=text/html:Join the Chandler Chamber of Commerce at the Ribbon Cutting for Inifinity Care Health Specialist!&nbsp\;<br />\n<br />\n*Thank you to our ribbon sponsor Laser Creations\, www.lasercreationsaz.com
LOCATION:3920 S Alma School Rd NW Corner of Alma School and Ocotillo Rd
UID:e.1561.11925
SEQUENCE:3
DTSTAMP:20260426T015812Z
URL:https://business.chandlerchamber.com/events/details/ribbon-cutting-infinity-care-health-specialist-01-17-2015-11925
END:VEVENT

END:VCALENDAR
