BEGIN:VCALENDAR
VERSION:2.0
PRODID:-//ChamberMaster//Event Calendar 2.0//EN
METHOD:PUBLISH
X-PUBLISHED-TTL:P3D
REFRESH-INTERVAL:P3D
CALSCALE:GREGORIAN
BEGIN:VEVENT
DTSTART:20171017T230000Z
DTEND:20171018T010000Z
X-MICROSOFT-CDO-ALLDAYEVENT:FALSE
SUMMARY:Ribbon Cutting - Leadership Institute Class 34 Legacy Project @ Chandler/Gilbert ARC
DESCRIPTION:Join the Chandler Chamber Community Foundation Leadership Institute Class 34 as they reveal their legacy project at Chandler/Gilbert ARC
X-ALT-DESC;FMTTYPE=text/html:Join the Chandler Chamber Community Foundation Leadership Institute Class 34 as they reveal their legacy project at Chandler/Gilbert ARC
LOCATION:3250 N San Marcos Pl 4:00pm - 6:00pm Ribbon Cutting @ 4:30pm
UID:e.1561.19116
SEQUENCE:3
DTSTAMP:20260424T051423Z
URL:https://business.chandlerchamber.com/events/details/ribbon-cutting-leadership-institute-class-34-legacy-project-chandler-gilbert-arc-19116
END:VEVENT

END:VCALENDAR
