BEGIN:VCALENDAR
VERSION:2.0
PRODID:-//ChamberMaster//Event Calendar 2.0//EN
METHOD:PUBLISH
X-PUBLISHED-TTL:P3D
REFRESH-INTERVAL:P3D
CALSCALE:GREGORIAN
BEGIN:VEVENT
DTSTART:20150414T233000Z
DTEND:20150415T003000Z
X-MICROSOFT-CDO-ALLDAYEVENT:FALSE
SUMMARY:Ribbon Cutting @ My Momentum Chiropractic
DESCRIPTION:Join the Chandler Chamber in celebrating the Ribbon cutting for My Momentum Chiropractic! There will be food\, beverages\,a drawing for suns tickets (bring your business cards)\, an Amazon fire and more!\n\n\n\n*Thank you to our ribbon sponsor\, Laser Creations
X-ALT-DESC;FMTTYPE=text/html:Join the Chandler Chamber in celebrating the Ribbon cutting for My Momentum Chiropractic! There will be food\, beverages\,a drawing for suns tickets (bring your business cards)\, an Amazon fire and more!<br />\n<br />\n*Thank you to our ribbon sponsor\, Laser Creations&nbsp\;
LOCATION:1860 E Warner Rd\, Suite 124 Tempe\, AZ 85285 *NE corner of McClintock/Warner
UID:e.1561.12625
SEQUENCE:3
DTSTAMP:20260425T213605Z
URL:https://business.chandlerchamber.com/events/details/ribbon-cutting-my-momentum-chiropractic-04-14-2015-12625
END:VEVENT

END:VCALENDAR
