BEGIN:VCALENDAR
VERSION:2.0
PRODID:-//ChamberMaster//Event Calendar 2.0//EN
METHOD:PUBLISH
X-PUBLISHED-TTL:P3D
REFRESH-INTERVAL:P3D
CALSCALE:GREGORIAN
BEGIN:VEVENT
DTSTART:20150915T180000Z
DTEND:20150915T190000Z
X-MICROSOFT-CDO-ALLDAYEVENT:FALSE
SUMMARY:Ribbon Cutting- NuHome Promotions
DESCRIPTION:Ribbon Cutting at NuHome Promotions!
X-ALT-DESC;FMTTYPE=text/html:Ribbon Cutting at NuHome Promotions!
LOCATION:NuHome Promotions 4330 W. Chandler Blvd NW side of Chandler Blvd just west of McClintock
UID:e.1561.13161
SEQUENCE:3
DTSTAMP:20260425T183729Z
URL:https://business.chandlerchamber.com/events/details/ribbon-cutting-nuhome-promotions-09-15-2015-13161
END:VEVENT

END:VCALENDAR
