BEGIN:VCALENDAR
VERSION:2.0
PRODID:-//ChamberMaster//Event Calendar 2.0//EN
METHOD:PUBLISH
X-PUBLISHED-TTL:P3D
REFRESH-INTERVAL:P3D
CALSCALE:GREGORIAN
BEGIN:VEVENT
DTSTART:20180215T210000Z
DTEND:20180216T010000Z
X-MICROSOFT-CDO-ALLDAYEVENT:FALSE
SUMMARY:Ribbon Cutting - Open House: Marc J. Victor\, P.C. is changing the name to The Attorneys For Freedom Law Firm
DESCRIPTION:Ribbon Cutting - Open House. The law firm of Marc J. Victor\, P.C. is changing its name to The Attorneys For Freedom Law Firm Special Guest Speaker: Clint Bolick\, Arizona Supreme Court Jusitice Speaking at 4:30pm Join Us for: Free Food Music Activities/Give Aways Guest Speaker
X-ALT-DESC;FMTTYPE=text/html:Ribbon Cutting - Open House. The law firm of Marc J. Victor\, P.C. is changing its name to The Attorneys For Freedom Law Firm Special Guest Speaker: Clint Bolick\, Arizona Supreme Court Jusitice Speaking at 4:30pm Join Us for: Free Food Music Activities/Give Aways Guest Speaker
LOCATION:The Attorneys For Freedom Law Firm 3185 South Price Road Chandler\, AZ 85248
UID:e.1561.20488
SEQUENCE:3
DTSTAMP:20260423T220235Z
URL:https://business.chandlerchamber.com/events/details/ribbon-cutting-open-house-marc-j-victor-p-c-is-changing-the-name-to-the-attorneys-for-freedom-law-firm-20488
END:VEVENT

END:VCALENDAR
