BEGIN:VCALENDAR
VERSION:2.0
PRODID:-//ChamberMaster//Event Calendar 2.0//EN
METHOD:PUBLISH
X-PUBLISHED-TTL:P3D
REFRESH-INTERVAL:P3D
CALSCALE:GREGORIAN
BEGIN:VEVENT
DTSTART:20190318T170000Z
DTEND:20190318T180000Z
X-MICROSOFT-CDO-ALLDAYEVENT:FALSE
SUMMARY:Ribbon Cutting or Blackberry Cafe
DESCRIPTION:Join the Chandler Chamber for a Ribbon Cutting for Blackberry Cafe\n\n\n\nThank you to our Ribbon Sponsor Laser Creations
X-ALT-DESC;FMTTYPE=text/html:Join the Chandler Chamber for a Ribbon Cutting for Blackberry Cafe<br />\n<br />\nThank you to our Ribbon Sponsor Laser Creations&nbsp\;&nbsp\;&nbsp\;&nbsp\;
LOCATION:Blackberry Cafe 2090 N Dobson Rd Chandler AZ 85224 (NW corner Dobson/Warner Rd)
UID:e.1561.36612
SEQUENCE:3
DTSTAMP:20260423T045504Z
URL:https://business.chandlerchamber.com/events/details/ribbon-cutting-or-blackberry-cafe-36612
END:VEVENT

END:VCALENDAR
