BEGIN:VCALENDAR
VERSION:2.0
PRODID:-//ChamberMaster//Event Calendar 2.0//EN
METHOD:PUBLISH
X-PUBLISHED-TTL:P3D
REFRESH-INTERVAL:P3D
CALSCALE:GREGORIAN
BEGIN:VEVENT
DTSTART:20150224T233000Z
DTEND:20150225T003000Z
X-MICROSOFT-CDO-ALLDAYEVENT:FALSE
SUMMARY:Ribbon Cutting @ Paris Wigs and Extensions
DESCRIPTION:Join the Chandler Chamber of Commerce in celebrating with Paris Wigs and Extensions their Ribbon Cutting. Ribbon cutting and refreshments.
X-ALT-DESC;FMTTYPE=text/html:Join the Chandler Chamber of Commerce in celebrating with Paris Wigs and Extensions their Ribbon Cutting. Ribbon cutting and refreshments.&nbsp\;
LOCATION:1964 N. Alma School Rd #3 Chandler\, AZ 85224 SW Corner of Alma School/Warner
UID:e.1561.12472
SEQUENCE:3
DTSTAMP:20260426T002833Z
URL:https://business.chandlerchamber.com/events/details/ribbon-cutting-paris-wigs-and-extensions-02-24-2015-12472
END:VEVENT

END:VCALENDAR
