BEGIN:VCALENDAR
VERSION:2.0
PRODID:-//ChamberMaster//Event Calendar 2.0//EN
METHOD:PUBLISH
X-PUBLISHED-TTL:P3D
REFRESH-INTERVAL:P3D
CALSCALE:GREGORIAN
BEGIN:VEVENT
DTSTART:20150212T233000Z
DTEND:20150213T003000Z
X-MICROSOFT-CDO-ALLDAYEVENT:FALSE
SUMMARY:Ribbon Cutting @ Peixoto Coffee
DESCRIPTION:Join the Chandler Chamber at the Ribbon Cutting for Peixoto Coffee\, ribbon cutting and refreshments! Thank you to our ribbon sponsor Laser Creations.
X-ALT-DESC;FMTTYPE=text/html:Join the Chandler Chamber at the Ribbon Cutting for Peixoto Coffee\, ribbon cutting and refreshments! Thank you to our ribbon sponsor Laser Creations.&nbsp\;
LOCATION:11 W. Boston St Suite 6 Chandler\, AZ 85225
UID:e.1561.12471
SEQUENCE:3
DTSTAMP:20260426T002943Z
URL:https://business.chandlerchamber.com/events/details/ribbon-cutting-peixoto-coffee-02-12-2015-12471
END:VEVENT

END:VCALENDAR
