BEGIN:VCALENDAR
VERSION:2.0
PRODID:-//ChamberMaster//Event Calendar 2.0//EN
METHOD:PUBLISH
X-PUBLISHED-TTL:P3D
REFRESH-INTERVAL:P3D
CALSCALE:GREGORIAN
BEGIN:VEVENT
DTSTART:20220629T230000Z
DTEND:20220630T000000Z
X-MICROSOFT-CDO-ALLDAYEVENT:FALSE
SUMMARY:Ribbon Cutting - Premier Martial Arts - Chandler East
DESCRIPTION:Join the Chandler Chamber for the Ribbon Cutting for \n\n Premier Martial Arts - Chandler East  \n\n\n\nThank you to our Ribbon Sponsor - Laser Creations
X-ALT-DESC;FMTTYPE=text/html:<span style="color: rgb(51\, 51\, 51)\; font-family: sans-serif\, Arial\, Verdana\, &quot\;Trebuchet MS&quot\;\; font-size: 13px\; background-color: rgb(255\, 255\, 255)\;">Join the Chandler Chamber for the Ribbon Cutting for&nbsp\;</span><br />\n<span style="color: rgb(51\, 51\, 51)\; font-family: sans-serif\, Arial\, Verdana\, &quot\;Trebuchet MS&quot\;\; background-color: rgb(255\, 255\, 255)\; font-size: 14px\;"><b>&nbsp\;Premier Martial Arts - Chandler East&nbsp\;&nbsp\;</b></span><br style="color: rgb(51\, 51\, 51)\; font-family: sans-serif\, Arial\, Verdana\, &quot\;Trebuchet MS&quot\;\; font-size: 13px\;" />\n<br style="color: rgb(51\, 51\, 51)\; font-family: sans-serif\, Arial\, Verdana\, &quot\;Trebuchet MS&quot\;\; font-size: 13px\;" />\n<span style="color: rgb(51\, 51\, 51)\; font-family: sans-serif\, Arial\, Verdana\, &quot\;Trebuchet MS&quot\;\; font-size: 13px\; background-color: rgb(255\, 255\, 255)\;">Thank you to our Ribbon Sponsor - Laser Creations</span>
LOCATION:2945 E Riggs Road # 12 Chandler\, AZ 85249
UID:e.1561.40744
SEQUENCE:3
DTSTAMP:20260423T205508Z
URL:https://business.chandlerchamber.com/events/details/ribbon-cutting-premier-martial-arts-chandler-east-40744
END:VEVENT

END:VCALENDAR
