BEGIN:VCALENDAR
VERSION:2.0
PRODID:-//ChamberMaster//Event Calendar 2.0//EN
METHOD:PUBLISH
X-PUBLISHED-TTL:P3D
REFRESH-INTERVAL:P3D
CALSCALE:GREGORIAN
BEGIN:VEVENT
DTSTART:20220201T230000Z
DTEND:20220202T000000Z
X-MICROSOFT-CDO-ALLDAYEVENT:FALSE
SUMMARY:Ribbon Cutting - Red Butte Pain Solutions
DESCRIPTION:Join the Chandler Chamber at the Ribbon cutting for\n\nRed Butte Pain Solutions. \n\n\n\nThank you to our Ribbon Sponsor Laser Creations
X-ALT-DESC;FMTTYPE=text/html:<span style="font-family: arial\; font-size: 16px\; background-color: rgb(255\, 255\, 255)\;">Join the Chandler Chamber at the Ribbon cutting for<br />\n<span style="font-size:20px\;"><strong>Red Butte Pain Solutions</strong></span>.&nbsp\;<br />\n<br />\nThank you to our Ribbon Sponsor Laser Creations</span>
LOCATION:Red Butte Pain Solutions 5590 W Chandler Blvd Ste 3 Chandler\, AZ 85226
UID:e.1561.40360
SEQUENCE:3
DTSTAMP:20260423T233252Z
URL:https://business.chandlerchamber.com/events/details/ribbon-cutting-red-butte-pain-solutions-40360
END:VEVENT

END:VCALENDAR
