BEGIN:VCALENDAR
VERSION:2.0
PRODID:-//ChamberMaster//Event Calendar 2.0//EN
METHOD:PUBLISH
X-PUBLISHED-TTL:P3D
REFRESH-INTERVAL:P3D
CALSCALE:GREGORIAN
BEGIN:VEVENT
DTSTART:20150110T180000Z
DTEND:20150110T190000Z
X-MICROSOFT-CDO-ALLDAYEVENT:FALSE
SUMMARY:Ribbon Cutting @ Redline Athletics
DESCRIPTION:Join the Chandler Chamber at the Ribbon Cutting for Redline Athletics.\n\n \n\nThe "Official" RedLine Athletics Chandler West Grand Opening Celebration will take place on Saturday January 10th from 10a.m.-4p.m.  The brand new\, state-of-the-art facility will feature sport specific training for athletes ages 8 to 18\, with programs created and run by former pro and major college athletes and coaches to give their members the opportunity to  "train like a pro with the pro's."\n\n \n\nThe ribbon cutting event will feature refreshments including burgers\, hot dogs and prizes including NFL Pro Bowl tickets\, free memberships and more plus free training sessions with RedLine coaches\, guest training with Olympic Gold Medalist Dan O'Brien and NFL Strength Coach Ethan Banning and mor. We'll also have free yoga\, Barre\, and Pilates classes from Studio J Pilates\, located inside the facility.\n\n \n\nFamily Friendly. Thank you to our ribbon sponsor Laser Creations.
X-ALT-DESC;FMTTYPE=text/html:<p style="background-image: initial\; background-attachment: initial\; background-size: initial\; background-origin: initial\; background-clip: initial\; background-position: initial\; background-repeat: initial\;"><strong><i><span style="font-size: 10.5pt\; font-family: Arial\, sans-serif\; color: black\; background-image: initial\; background-attachment: initial\; background-size: initial\; background-origin: initial\; background-clip: initial\; background-position: initial\; background-repeat: initial\;">Join the Chandler Chamber at the Ribbon Cutting for Redline Athletics.</span></i></strong><span style="font-family:&quot\;Calibri&quot\;\,sans-serif\;color:black"><o:p></o:p></span></p>\n\n<p style="background-image: initial\; background-attachment: initial\; background-size: initial\; background-origin: initial\; background-clip: initial\; background-position: initial\; background-repeat: initial\;"><span style="font-family:&quot\;Calibri&quot\;\,sans-serif\;\ncolor:black">&nbsp\;</span></p>\n\n<p style="background-image: initial\; background-attachment: initial\; background-size: initial\; background-origin: initial\; background-clip: initial\; background-position: initial\; background-repeat: initial\;"><strong><i><span style="font-family:&quot\;Calibri&quot\;\,sans-serif\;\ncolor:black">The &ldquo\;Official&rdquo\; RedLine Athletics Chandler West Grand Opening Celebration will take place on Saturday January 10<sup>th</sup> from 10a.m.-4p.m.&nbsp\; The brand new\, state-of-the-art facility will feature sport specific training for athletes ages 8 to 18\, with programs created and run by former pro and major college athletes and coaches to give their members the opportunity to&nbsp\; &quot\;train like a pro with the pro&#39\;s.&quot\;</span></i></strong><span style="font-family:&quot\;Calibri&quot\;\,sans-serif\;color:black"><o:p></o:p></span></p>\n\n<p style="background-image: initial\; background-attachment: initial\; background-size: initial\; background-origin: initial\; background-clip: initial\; background-position: initial\; background-repeat: initial\;"><span style="font-family:&quot\;Calibri&quot\;\,sans-serif\;\ncolor:black">&nbsp\;</span></p>\n\n<p style="background-image: initial\; background-attachment: initial\; background-size: initial\; background-origin: initial\; background-clip: initial\; background-position: initial\; background-repeat: initial\;"><strong><i><span style="font-size: 10.5pt\; font-family: Arial\, sans-serif\; color: black\; background-image: initial\; background-attachment: initial\; background-size: initial\; background-origin: initial\; background-clip: initial\; background-position: initial\; background-repeat: initial\;">The&nbsp\;ribbon cutting event will feature&nbsp\;refreshments including burgers\, hot&nbsp\;dogs and prizes including&nbsp\;</span></i></strong><strong><i><span style="font-family: Calibri\, sans-serif\; color: black\; background-image: initial\; background-attachment: initial\; background-size: initial\; background-origin: initial\; background-clip: initial\; background-position: initial\; background-repeat: initial\;">NFL Pro Bowl tickets</span></i></strong><strong><i><span style="font-size: 10.5pt\; font-family: Arial\, sans-serif\; color: black\; background-image: initial\; background-attachment: initial\; background-size: initial\; background-origin: initial\; background-clip: initial\; background-position: initial\; background-repeat: initial\;">\,&nbsp\;free memberships and&nbsp\;more&nbsp\;plus free training sessions with RedLine coaches\, guest training with&nbsp\;Olympic Gold Medalist Dan O&#39\;Brien and NFL Strength Coach Ethan Banning and mor. We&#39\;ll also have&nbsp\;free yoga\, Barre\, and Pilates classes from Studio J Pilates\, located inside the facility.</span></i></strong><span style="font-family:&quot\;Calibri&quot\;\,sans-serif\;\ncolor:black"><o:p></o:p></span></p>\n\n<p style="background-image: initial\; background-attachment: initial\; background-size: initial\; background-origin: initial\; background-clip: initial\; background-position: initial\; background-repeat: initial\;"><span style="font-family:&quot\;Calibri&quot\;\,sans-serif\;\ncolor:black">&nbsp\;</span></p>\n\n<p style="background-image: initial\; background-attachment: initial\; background-size: initial\; background-origin: initial\; background-clip: initial\; background-position: initial\; background-repeat: initial\;"><strong><i><span style="font-size: 10.5pt\; font-family: Arial\, sans-serif\; color: black\; background-image: initial\; background-attachment: initial\; background-size: initial\; background-origin: initial\; background-clip: initial\; background-position: initial\; background-repeat: initial\;">Family Friendly. Thank you to our ribbon sponsor Laser Creations.&nbsp\;</span></i></strong><span style="font-family:&quot\;Calibri&quot\;\,sans-serif\;color:black"><o:p></o:p></span></p>\n
LOCATION:6150 W Chandler Blvd Ste 17 Chandler\, AZ NW Corner Chandler & Kyrene
UID:e.1561.11976
SEQUENCE:3
DTSTAMP:20260426T014345Z
URL:https://business.chandlerchamber.com/events/details/ribbon-cutting-redline-athletics-01-10-2015-11976
END:VEVENT

END:VCALENDAR
