BEGIN:VCALENDAR
VERSION:2.0
PRODID:-//ChamberMaster//Event Calendar 2.0//EN
METHOD:PUBLISH
X-PUBLISHED-TTL:P3D
REFRESH-INTERVAL:P3D
CALSCALE:GREGORIAN
BEGIN:VEVENT
DTSTART:20230628T230000Z
DTEND:20230629T000000Z
X-MICROSOFT-CDO-ALLDAYEVENT:FALSE
SUMMARY:Ribbon Cutting Republic Finance
DESCRIPTION:Come join the Chandler Chamber of Commerce and celebrate the Ribbon Cutting for Republic Finance\n\nWe offer personal loans directly! From bill consolidations\, home improvements\, vacations\, car purchases\, medical bills\, car repairs\, and other unplanned expenses\, we're here to help you! For car buyers\, we offer refinancing of existing loans.
X-ALT-DESC;FMTTYPE=text/html:Come join the Chandler Chamber of Commerce and celebrate the Ribbon Cutting for Republic Finance<br />\n<span style="color: rgb(51\, 51\, 51)\; font-family: &quot\;Helvetica Neue&quot\;\, Helvetica\, Arial\, sans-serif\; font-size: 14px\; background-color: rgb(255\, 255\, 255)\;">We offer personal loans directly! From bill consolidations\, home improvements\, vacations\, car purchases\,&nbsp\;medical bills\, car repairs\, and other unplanned expenses\, we&#39\;re here to help you! For car buyers\, we offer refinancing of existing loans.</span>
LOCATION:Republic Finance 1880 S Alma School Rd. Chandler\, AZ 85286
UID:e.1561.48432
SEQUENCE:3
DTSTAMP:20260423T084614Z
URL:https://business.chandlerchamber.com/events/details/ribbon-cutting-republic-finance-48432
END:VEVENT

END:VCALENDAR
