BEGIN:VCALENDAR
VERSION:2.0
PRODID:-//ChamberMaster//Event Calendar 2.0//EN
METHOD:PUBLISH
X-PUBLISHED-TTL:P3D
REFRESH-INTERVAL:P3D
CALSCALE:GREGORIAN
BEGIN:VEVENT
DTSTART:20150324T233000Z
DTEND:20150325T003000Z
X-MICROSOFT-CDO-ALLDAYEVENT:FALSE
SUMMARY:Ribbon Cutting @ Retirement Insurance Specialists
DESCRIPTION:Join the Chandler Chamber in celebrating the ribbon cutting for Retirement Insurance Specialists. \n\n\n\n*Thank you to our ribbon sponsor\, Laser Creations
X-ALT-DESC;FMTTYPE=text/html:Join the Chandler Chamber in celebrating the ribbon cutting for Retirement Insurance Specialists.&nbsp\;<br />\n<br />\n*Thank you to our ribbon sponsor\, Laser Creations
LOCATION:2181 E Pecos Rd Chandler\, AZ 85225 SE Corner of Cooper E of Pecos
UID:e.1561.12628
SEQUENCE:3
DTSTAMP:20260426T003209Z
URL:https://business.chandlerchamber.com/events/details/ribbon-cutting-retirement-insurance-specialists-03-24-2015-12628
END:VEVENT

END:VCALENDAR
