BEGIN:VCALENDAR
VERSION:2.0
PRODID:-//ChamberMaster//Event Calendar 2.0//EN
METHOD:PUBLISH
X-PUBLISHED-TTL:P3D
REFRESH-INTERVAL:P3D
CALSCALE:GREGORIAN
BEGIN:VEVENT
DTSTART:20230301T230000Z
DTEND:20230302T000000Z
X-MICROSOFT-CDO-ALLDAYEVENT:FALSE
SUMMARY:Ribbon Cutting - Senior Helpers
DESCRIPTION:Come join the Chandler Chamber of Commerce\n\nand celebrate the Grand Opening and Ribbon Cutting\n\n                    of Senior Helpers!\n\n\n\nSenior Helpers provides in-home non-medical caregivers and companion care serving Chandler\, Gilbert and surrounding areas. \n\n\n\nThank you to our Ribbon Cutting Sponsor\, Laser Creations!
X-ALT-DESC;FMTTYPE=text/html:Come join the Chandler Chamber of Commerce<br />\nand celebrate the Grand Opening and Ribbon Cutting<br />\n&nbsp\;&nbsp\;&nbsp\;&nbsp\;&nbsp\;&nbsp\;&nbsp\;&nbsp\;&nbsp\;&nbsp\;&nbsp\;&nbsp\;&nbsp\;&nbsp\;&nbsp\;&nbsp\;&nbsp\;&nbsp\;&nbsp\;&nbsp\;of Senior Helpers!<br />\n<br />\nSenior Helpers provides in-home non-medical caregivers and companion care serving Chandler\, Gilbert and surrounding areas.&nbsp\;<br />\n<br />\nThank you to our Ribbon Cutting Sponsor\, Laser Creations!&nbsp\;
LOCATION:Senior Helpers 604 W Warner Rd B2 Chandler\, AZ 85225
UID:e.1561.44590
SEQUENCE:3
DTSTAMP:20260423T202901Z
URL:https://business.chandlerchamber.com/events/details/ribbon-cutting-senior-helpers-44590
END:VEVENT

END:VCALENDAR
