BEGIN:VCALENDAR
VERSION:2.0
PRODID:-//ChamberMaster//Event Calendar 2.0//EN
METHOD:PUBLISH
X-PUBLISHED-TTL:P3D
REFRESH-INTERVAL:P3D
CALSCALE:GREGORIAN
BEGIN:VEVENT
DTSTART:20150106T233000Z
DTEND:20150107T003000Z
X-MICROSOFT-CDO-ALLDAYEVENT:FALSE
SUMMARY:Ribbon Cutting @ SicFit Chandler
DESCRIPTION:Join the Chandler Chamber at the Ribbon Cutting for SicFit Chandler\, ribbon cutting and refreshments including networking\, light lunch\, drinks\, raffle giveaways!. Thank you to our ribbon sponsor Laser Creations.
X-ALT-DESC;FMTTYPE=text/html:Join the Chandler Chamber at the Ribbon Cutting for SicFit Chandler\, ribbon cutting and refreshments including networking\, light lunch\, drinks\, raffle giveaways!. Thank you to our ribbon sponsor Laser Creations.&nbsp\;
LOCATION:7225 W Harrison St\, Chandler\, AZ 85226
UID:e.1561.11927
SEQUENCE:3
DTSTAMP:20260426T015557Z
URL:https://business.chandlerchamber.com/events/details/ribbon-cutting-sicfit-chandler-01-06-2015-11927
END:VEVENT

END:VCALENDAR
