BEGIN:VCALENDAR
VERSION:2.0
PRODID:-//ChamberMaster//Event Calendar 2.0//EN
METHOD:PUBLISH
X-PUBLISHED-TTL:P3D
REFRESH-INTERVAL:P3D
CALSCALE:GREGORIAN
BEGIN:VEVENT
DTSTART:20150129T233000Z
DTEND:20150130T003000Z
X-MICROSOFT-CDO-ALLDAYEVENT:FALSE
SUMMARY:Ribbon Cutting @ SoZo Coffeehouse
DESCRIPTION:Join the Chandler Chamber at the Ribbon Cutting for SoZo Coffeehouse\, ribbon cutting and refreshments. Thank you to our ribbon sponsor Laser Creations.
X-ALT-DESC;FMTTYPE=text/html:Join the Chandler Chamber at the Ribbon Cutting for SoZo Coffeehouse\, ribbon cutting and refreshments. Thank you to our ribbon sponsor Laser Creations.&nbsp\;
LOCATION:1982 N. Alma School Rd Chandler\, AZ 85224 SW Corner Alma School & Warner
UID:e.1561.11977
SEQUENCE:3
DTSTAMP:20260426T014402Z
URL:https://business.chandlerchamber.com/events/details/ribbon-cutting-sozo-coffeehouse-01-29-2015-11977
END:VEVENT

END:VCALENDAR
