BEGIN:VCALENDAR
VERSION:2.0
PRODID:-//ChamberMaster//Event Calendar 2.0//EN
METHOD:PUBLISH
X-PUBLISHED-TTL:P3D
REFRESH-INTERVAL:P3D
CALSCALE:GREGORIAN
BEGIN:VEVENT
DTSTART:20150402T233000Z
DTEND:20150403T003000Z
X-MICROSOFT-CDO-ALLDAYEVENT:FALSE
SUMMARY:Ribbon Cutting @ Spooner Physical Therapy
DESCRIPTION:Join the Chandler Chamber of Commerce in celebrating the ribbon cutting at Spooner Physical Therapy. Ribbon cutting and refreshments.\n\n\n\n*Thank you to our ribbon sponsor\, Laser Creations
X-ALT-DESC;FMTTYPE=text/html:Join the Chandler Chamber of Commerce in celebrating the ribbon cutting at Spooner Physical Therapy. Ribbon cutting and refreshments.<br />\n<br />\n*Thank you to our ribbon sponsor\, Laser Creations
LOCATION:10325 E Riggs Rd #102 Sun Lakes\, 85248 SW corner Riggs and Alma School Rd
UID:e.1561.12632
SEQUENCE:3
DTSTAMP:20260425T213131Z
URL:https://business.chandlerchamber.com/events/details/ribbon-cutting-spooner-physical-therapy-04-02-2015-12632
END:VEVENT

END:VCALENDAR
