BEGIN:VCALENDAR
VERSION:2.0
PRODID:-//ChamberMaster//Event Calendar 2.0//EN
METHOD:PUBLISH
X-PUBLISHED-TTL:P3D
REFRESH-INTERVAL:P3D
CALSCALE:GREGORIAN
BEGIN:VEVENT
DTSTART:20150815T230000Z
DTEND:20150816T020000Z
X-MICROSOFT-CDO-ALLDAYEVENT:FALSE
SUMMARY:Ribbon Cutting- Studio Fit
DESCRIPTION:Ribbon cutting at Folley Pool for the 4 year anniversary of Studio Fit!\n\n\n\nLet the Tradition continue! We will be renting out Folley Pool in Chandler to celebrate our 4 year Birthday! We'd love to see you and your family attend this awesome private StudioFIT family and friends event! \n\n\n\nSATURDAY\, AUGUST 15th from 4-7PM\, 300 expected in attendance.\n\n\n\n**LIVE DJ**\n\n**Catered Food and Drinks**\n\n**Give-a-ways**\n\n**1 Year Membership Raffle**\n\n**Prizes - Games - Competitions**\n\n**T-Shirts - Hats - FUN**\n\n\n\nIt's going to be a blast and you're not going to want to miss out! Please\, RSVP on FB for this event so we can get an accurate head count for Food and Drinks!\n\n\n\nThank you ALL for your support and we can't wait to celebrate with you!\n\n\n\n\n\n*Thank you to our ribbon sponsor\, Laser Creations
X-ALT-DESC;FMTTYPE=text/html:Ribbon cutting at Folley Pool for the 4 year anniversary of Studio Fit!<br />\n<br />\n<span style="font-family:arial\;"><span style="font-size: 12px\;"><span style="color: rgb(20\, 24\, 35)\;">Let the Tradition continue! We will be renting out Folley Pool in Chandler to celebrate our 4 year Birthday! We&#39\;d love to see you and your family attend this awesome private StudioFIT family and friends event! </span><br />\n<br />\n<span style="color: rgb(20\, 24\, 35)\;">SATURDAY\, AUGUST 15th from 4-7PM\, 300 expected in attendance.</span><br />\n<br />\n**LIVE DJ**<br />\n**Catered Food and Drinks**<br />\n**Give-a-ways**<br />\n**1 Year Membership Raffle**<br />\n**Prizes - Games - Competitions**<br />\n**T-Shirts - Hats - FUN**<br />\n<br />\nIt&#39\;s going to be a blast and you&#39\;re not going to want to miss out! Please\, RSVP on FB for this event so we can get an accurate head count for Food and Drinks!<br />\n<br />\nThank you ALL for your support and we can&#39\;t wait to celebrate with you!</span></span><br />\n<br />\n<br />\n*Thank you to our ribbon sponsor\, Laser Creations
LOCATION:Swim Center Folley Pool 600 E Fairview St\, Chandler\, AZ 85225
UID:e.1561.13132
SEQUENCE:3
DTSTAMP:20260425T183326Z
URL:https://business.chandlerchamber.com/events/details/ribbon-cutting-studio-fit-08-15-2015-13132
END:VEVENT

END:VCALENDAR
