BEGIN:VCALENDAR
VERSION:2.0
PRODID:-//ChamberMaster//Event Calendar 2.0//EN
METHOD:PUBLISH
X-PUBLISHED-TTL:P3D
REFRESH-INTERVAL:P3D
CALSCALE:GREGORIAN
BEGIN:VEVENT
DTSTART:20150903T233000Z
DTEND:20150904T003000Z
X-MICROSOFT-CDO-ALLDAYEVENT:FALSE
SUMMARY:Ribbon Cutting - Sun Lakes Nails & Spa
DESCRIPTION:Ribbon cutting at Sun Lakes Nails & Spa!\n\nRibbon cutting and refreshments.\n\n\n\n*Thank you to our ribbon sponsor Laser Creations
X-ALT-DESC;FMTTYPE=text/html:Ribbon cutting at Sun Lakes Nails &amp\; Spa!<br />\nRibbon cutting and refreshments.<br />\n<br />\n*Thank you to our ribbon sponsor Laser Creations
LOCATION:4991 S Alma School Rd. #7 Chandler Az 85248 SE corner Alma School/Chandler Heights
UID:e.1561.12919
SEQUENCE:3
DTSTAMP:20260425T170110Z
URL:https://business.chandlerchamber.com/events/details/ribbon-cutting-sun-lakes-nails-spa-09-03-2015-12919
END:VEVENT

END:VCALENDAR
