BEGIN:VCALENDAR
VERSION:2.0
PRODID:-//ChamberMaster//Event Calendar 2.0//EN
METHOD:PUBLISH
X-PUBLISHED-TTL:P3D
REFRESH-INTERVAL:P3D
CALSCALE:GREGORIAN
BEGIN:VEVENT
DTSTART:20170816T230000Z
DTEND:20170817T000000Z
X-MICROSOFT-CDO-ALLDAYEVENT:FALSE
SUMMARY:Ribbon Cutting @ Superkids Child Care
DESCRIPTION:Join the Chandler Chamber of Commerce for a ribbon Cutting at Superkids Child Care\n\n*Thank you to our ribbon sponsor Laser Creations*
X-ALT-DESC;FMTTYPE=text/html:Join the Chandler Chamber of Commerce for a ribbon Cutting at Superkids Child Care<br />\n*Thank you to our ribbon sponsor Laser Creations*&nbsp\;&nbsp\;&nbsp\;&nbsp\;&nbsp\;&nbsp\;&nbsp\;&nbsp\;
LOCATION:2200 N Alma School Rd Chandler\, AZ 85224 North of Warner on west side of Alma School
UID:e.1561.19099
SEQUENCE:3
DTSTAMP:20260424T064121Z
URL:https://business.chandlerchamber.com/events/details/ribbon-cutting-superkids-child-care-19099
END:VEVENT

END:VCALENDAR
