BEGIN:VCALENDAR
VERSION:2.0
PRODID:-//ChamberMaster//Event Calendar 2.0//EN
METHOD:PUBLISH
X-PUBLISHED-TTL:P3D
REFRESH-INTERVAL:P3D
CALSCALE:GREGORIAN
BEGIN:VEVENT
DTSTART:20220609T230000Z
DTEND:20220610T000000Z
X-MICROSOFT-CDO-ALLDAYEVENT:FALSE
SUMMARY:Ribbon Cutting - Superstition Vitality Center
DESCRIPTION:Come celebrate the Chandler Chamber Ribbon Cutting for\n\nSuperstition Vitality Center\n\nThank you to Laser Creations for being our Ribbon Cutting Sponsor!
X-ALT-DESC;FMTTYPE=text/html:Come celebrate the Chandler Chamber Ribbon Cutting for<br />\nSuperstition Vitality Center<br />\nThank you to Laser Creations for being our Ribbon Cutting Sponsor!&nbsp\;
LOCATION:Superstition Vitality Center 312 N Alma School Rd Chandler\, AZ 85224
UID:e.1561.40722
SEQUENCE:3
DTSTAMP:20260423T205023Z
URL:https://business.chandlerchamber.com/events/details/ribbon-cutting-superstition-vitality-center-40722
END:VEVENT

END:VCALENDAR
