BEGIN:VCALENDAR
VERSION:2.0
PRODID:-//ChamberMaster//Event Calendar 2.0//EN
METHOD:PUBLISH
X-PUBLISHED-TTL:P3D
REFRESH-INTERVAL:P3D
CALSCALE:GREGORIAN
BEGIN:VEVENT
DTSTART:20150428T233000Z
DTEND:20150429T003000Z
X-MICROSOFT-CDO-ALLDAYEVENT:FALSE
SUMMARY:Ribbon Cutting @ The Desert Fieldhouse
DESCRIPTION:Join the Chandler Chamber of Commerce in celebrating the ribbon cutting for The Desert Fieldhouse. Ribbon cutting and refreshments included. \n\n\n\n*Thank you to our ribbon sponsor\, Laser Creations
X-ALT-DESC;FMTTYPE=text/html:Join the Chandler Chamber of Commerce in celebrating the ribbon cutting for The Desert Fieldhouse. Ribbon cutting and refreshments included.&nbsp\;<br />\n<br />\n*Thank you to our ribbon sponsor\, Laser Creations
LOCATION:255 W Warner Rd Chandler\, AZ 85225 West of AZ Ave (Palm Court Center)
UID:e.1561.12631
SEQUENCE:3
DTSTAMP:20260425T213723Z
URL:https://business.chandlerchamber.com/events/details/ribbon-cutting-the-desert-fieldhouse-04-28-2015-12631
END:VEVENT

END:VCALENDAR
