BEGIN:VCALENDAR
VERSION:2.0
PRODID:-//ChamberMaster//Event Calendar 2.0//EN
METHOD:PUBLISH
X-PUBLISHED-TTL:P3D
REFRESH-INTERVAL:P3D
CALSCALE:GREGORIAN
BEGIN:VEVENT
DTSTART:20150422T233000Z
DTEND:20150423T003000Z
X-MICROSOFT-CDO-ALLDAYEVENT:FALSE
SUMMARY:Ribbon Cutting @ The Kaleidoscope Group
DESCRIPTION:Join the Chandler Chamber of Commerce in Celebrating the Ribbon cutting at The Kaleidoscope Group. Ribbon cutting and refreshments included. \n\n\n\n* Thank you to our ribbon sponsor\, Laser Creations
X-ALT-DESC;FMTTYPE=text/html:Join the Chandler Chamber of Commerce in Celebrating the Ribbon cutting at The Kaleidoscope Group. Ribbon cutting and refreshments included.&nbsp\;<br />\n<br />\n* Thank you to our ribbon sponsor\, Laser Creations
LOCATION:Nabers Music Bar and Eats 825 N. 54th St Chandler\, AZ 85226 *South of Ray on the East side of 54th St
UID:e.1561.12634
SEQUENCE:3
DTSTAMP:20260425T213436Z
URL:https://business.chandlerchamber.com/events/details/ribbon-cutting-the-kaleidoscope-group-04-22-2015-12634
END:VEVENT

END:VCALENDAR
