BEGIN:VCALENDAR
VERSION:2.0
PRODID:-//ChamberMaster//Event Calendar 2.0//EN
METHOD:PUBLISH
X-PUBLISHED-TTL:P3D
REFRESH-INTERVAL:P3D
CALSCALE:GREGORIAN
BEGIN:VEVENT
DTSTART:20171113T230000Z
DTEND:20171114T000000Z
X-MICROSOFT-CDO-ALLDAYEVENT:FALSE
SUMMARY:Ribbon Cutting - Touch Ups Salon
DESCRIPTION:Join the Chandler Chamber for a ribbon cutting for Touch Ups Salon.\n\nThank you to our ribbon sponsor Laser Creations
X-ALT-DESC;FMTTYPE=text/html:Join the Chandler Chamber for a ribbon cutting for Touch Ups Salon.<br />\nThank you to our ribbon sponsor Laser Creations
LOCATION:2050 N Dobson Rd #B Chandler\, AZ.\, 85225
UID:e.1561.19209
SEQUENCE:3
DTSTAMP:20260424T034453Z
URL:https://business.chandlerchamber.com/events/details/ribbon-cutting-touch-ups-salon-19209
END:VEVENT

END:VCALENDAR
