BEGIN:VCALENDAR
VERSION:2.0
PRODID:-//ChamberMaster//Event Calendar 2.0//EN
METHOD:PUBLISH
X-PUBLISHED-TTL:P3D
REFRESH-INTERVAL:P3D
CALSCALE:GREGORIAN
BEGIN:VEVENT
DTSTART:20150108T233000Z
DTEND:20150109T003000Z
X-MICROSOFT-CDO-ALLDAYEVENT:FALSE
SUMMARY:Ribbon Cutting @ Triplex Training
DESCRIPTION:Join us at the ribbon cutting for Triplex Training! Ribbon cutting and light refreshments. \n\n\n\n*Thank you to our ribbon sponsor Laser Creations\, www.lasercreationsaz.com
X-ALT-DESC;FMTTYPE=text/html:Join us at the ribbon cutting for Triplex Training! Ribbon cutting and light refreshments.&nbsp\;<br />\n<br />\n*Thank you to our ribbon sponsor Laser Creations\, www.lasercreationsaz.com
LOCATION:2701 W Queen Creek Rd. Chandler\, AZ 85248 Dobson and Queen Creek Rd
UID:e.1561.11924
SEQUENCE:3
DTSTAMP:20260426T014217Z
URL:https://business.chandlerchamber.com/events/details/ribbon-cutting-triplex-training-01-08-2015-11924
END:VEVENT

END:VCALENDAR
