BEGIN:VCALENDAR
VERSION:2.0
PRODID:-//ChamberMaster//Event Calendar 2.0//EN
METHOD:PUBLISH
X-PUBLISHED-TTL:P3D
REFRESH-INTERVAL:P3D
CALSCALE:GREGORIAN
BEGIN:VEVENT
DTSTART:20220406T230000Z
DTEND:20220407T000000Z
X-MICROSOFT-CDO-ALLDAYEVENT:FALSE
SUMMARY:Ribbon Cutting - Tutor Doctor Chandler- Gilbert
DESCRIPTION:Join the Chandler Chamber at the Ribbon cutting for\n\nTutor Doctors
X-ALT-DESC;FMTTYPE=text/html:<span style="color: rgb(51\, 51\, 51)\; background-color: rgb(255\, 255\, 255)\; font-family: arial\; font-size: 16px\;">Join the Chandler Chamber at the Ribbon cutting for</span><br style="color: rgb(51\, 51\, 51)\; font-family: arial\; font-size: 16px\;" />\n<font color="#333333" face="arial" style="color: rgb(51\, 51\, 51)\; font-size: 13px\;"><span style="font-size: 20px\;"><b>Tutor Doctors</b></span></font>
LOCATION:Hosted by LOOK Dine In Theater 1 W Chandler Blvd Chandler\, AZ 85225
UID:e.1561.40638
SEQUENCE:3
DTSTAMP:20260423T234258Z
URL:https://business.chandlerchamber.com/events/details/ribbon-cutting-tutor-doctor-chandler-gilbert-40638
END:VEVENT

END:VCALENDAR
