BEGIN:VCALENDAR
VERSION:2.0
PRODID:-//ChamberMaster//Event Calendar 2.0//EN
METHOD:PUBLISH
X-PUBLISHED-TTL:P3D
REFRESH-INTERVAL:P3D
CALSCALE:GREGORIAN
BEGIN:VEVENT
DTSTART:20220615T230000Z
DTEND:20220616T000000Z
X-MICROSOFT-CDO-ALLDAYEVENT:FALSE
SUMMARY:Ribbon Cutting - Venezia's Pizza
DESCRIPTION:Please join the Chandler Chamber and celebrate the Grand Opening and Ribbon Cutting of     \n\nVenezia's Pizza
X-ALT-DESC;FMTTYPE=text/html:Please join the Chandler Chamber and celebrate the Grand Opening and Ribbon Cutting of&nbsp\;&nbsp\;&nbsp\;&nbsp\;&nbsp\;<br />\n<span style="font-size:14px\;"><strong>Venezia&#39\;s Pizza</strong></span><br />\n&nbsp\;
LOCATION:1245 S Price Rd Chandler\, AZ 85286
UID:e.1561.40957
SEQUENCE:3
DTSTAMP:20260423T191144Z
URL:https://business.chandlerchamber.com/events/details/ribbon-cutting-venezia-s-pizza-40957
END:VEVENT

END:VCALENDAR
