BEGIN:VCALENDAR
VERSION:2.0
PRODID:-//ChamberMaster//Event Calendar 2.0//EN
METHOD:PUBLISH
X-PUBLISHED-TTL:P3D
REFRESH-INTERVAL:P3D
CALSCALE:GREGORIAN
BEGIN:VEVENT
DTSTART:20190423T183000Z
DTEND:20190423T193000Z
X-MICROSOFT-CDO-ALLDAYEVENT:FALSE
SUMMARY:Ribbon Cutting & VIP Event for Quick Quack Car Wash
DESCRIPTION:Join the Chandler Chamber of Commerce at the Ribbon Cutting & VIP Event for Quick Quack Car Wash\n\n\n\n**Thank you to our ribbon sponsor Laser Creations**
X-ALT-DESC;FMTTYPE=text/html:Join the Chandler Chamber of Commerce at the Ribbon Cutting &amp\; VIP Event for Quick Quack Car Wash<br />\n<br />\n**Thank you to our ribbon sponsor Laser Creations**
LOCATION:Quick Quack Car Wash 7455 W Chandler Blvd Chandler AZ 85226 Lunch and Free Car Washes will be provided SW corner of Chandler Blvd & 56th St next to Whataburger
UID:e.1561.36642
SEQUENCE:3
DTSTAMP:20260423T045718Z
URL:https://business.chandlerchamber.com/events/details/ribbon-cutting-vip-event-for-quick-quack-car-wash-36642
END:VEVENT

END:VCALENDAR
