BEGIN:VCALENDAR
VERSION:2.0
PRODID:-//ChamberMaster//Event Calendar 2.0//EN
METHOD:PUBLISH
X-PUBLISHED-TTL:P3D
REFRESH-INTERVAL:P3D
CALSCALE:GREGORIAN
BEGIN:VEVENT
DTSTART:20150924T000000Z
DTEND:20150924T010000Z
X-MICROSOFT-CDO-ALLDAYEVENT:FALSE
SUMMARY:Ribbon Cutting & VIP Opening Night- Kneaders
DESCRIPTION:Ribbon Cutting and Opening VIP Night for Kneaders Bakery and Cafe!!\n\n\n\nJoin the Chandler Chamber at the Ribbon Cutting and VIP Opening Night for Kneaders Bakery and Cafe! Join the Celebration.
X-ALT-DESC;FMTTYPE=text/html:Ribbon Cutting and Opening VIP Night for Kneaders Bakery and Cafe!!<br />\n<br />\nJoin the Chandler&nbsp\;Chamber at the Ribbon Cutting and VIP Opening Night for Kneaders Bakery and Cafe! Join the Celebration.<br />\n&nbsp\;
LOCATION:Kneaders Bakery and Cafe 1090 W Queen Creek Rd Chandler\, AZ 85248 NW Corner of Alma School/Queen Creek
UID:e.1561.13170
SEQUENCE:3
DTSTAMP:20260425T170858Z
URL:https://business.chandlerchamber.com/events/details/ribbon-cutting-vip-opening-night-kneaders-09-23-2015-13170
END:VEVENT

END:VCALENDAR
