BEGIN:VCALENDAR
VERSION:2.0
PRODID:-//ChamberMaster//Event Calendar 2.0//EN
METHOD:PUBLISH
X-PUBLISHED-TTL:P3D
REFRESH-INTERVAL:P3D
CALSCALE:GREGORIAN
BEGIN:VEVENT
DTSTART:20230120T210000Z
DTEND:20230120T220000Z
X-MICROSOFT-CDO-ALLDAYEVENT:FALSE
SUMMARY:Ribbon Cutting - World of Sourdough
DESCRIPTION:Please join the Chandler Chamber of Commerce and celebrate with\n\nWorld of Sourdough\n\nopening of the first  Chandler\, Arizona restaurant!
X-ALT-DESC;FMTTYPE=text/html:Please join the Chandler Chamber of Commerce and celebrate with<br />\nWorld of Sourdough<br />\nopening of the first&nbsp\; Chandler\, Arizona restaurant!
LOCATION:2915 S Alma School Rd C-5 Chandler\, AZ 85286
UID:e.1561.44372
SEQUENCE:3
DTSTAMP:20260420T220215Z
URL:https://business.chandlerchamber.com/events/details/ribbon-cutting-world-of-sourdough-44372
END:VEVENT

END:VCALENDAR
