BEGIN:VCALENDAR
VERSION:2.0
PRODID:-//ChamberMaster//Event Calendar 2.0//EN
METHOD:PUBLISH
X-PUBLISHED-TTL:P3D
REFRESH-INTERVAL:P3D
CALSCALE:GREGORIAN
BEGIN:VEVENT
DTSTART:20170719T170000Z
DTEND:20170719T210000Z
X-MICROSOFT-CDO-ALLDAYEVENT:FALSE
SUMMARY:Rivulon Building Blood Drive
DESCRIPTION:Rivulon Building Blood Drive\n\nFinance of America's Training Room
X-ALT-DESC;FMTTYPE=text/html:Rivulon Building Blood Drive<br />\nFinance of America&#39\;s Training Room&nbsp\;&nbsp\;&nbsp\;&nbsp\;&nbsp\;&nbsp\;&nbsp\;&nbsp\;
LOCATION:275 E Rivulon Blvd Suite 200 Gilbert AZ 85297 Give blood June 1-August 31 and be automatically entered to win a 2017 Passat R-Line\, donated by your Valley Volkswagen Dealers!
UID:e.1561.19091
SEQUENCE:3
DTSTAMP:20260424T080207Z
URL:https://business.chandlerchamber.com/events/details/rivulon-building-blood-drive-19091
END:VEVENT

END:VCALENDAR
