BEGIN:VCALENDAR
VERSION:2.0
PRODID:-//ChamberMaster//Event Calendar 2.0//EN
METHOD:PUBLISH
X-PUBLISHED-TTL:P3D
REFRESH-INTERVAL:P3D
CALSCALE:GREGORIAN
BEGIN:VEVENT
DTSTART:20180915T190000Z
DTEND:20180916T040000Z
X-MICROSOFT-CDO-ALLDAYEVENT:FALSE
SUMMARY:Rockin' Taco Street Fest
DESCRIPTION:The seventh annual Rockin' Taco Street Fest is Saturday\, Sept. 15 from 12 to 9 p.m. Pre-sale tickets are $10. For more information\, visit the Rockin' Taco website.  To view event map: Rockin' Taco.
X-ALT-DESC;FMTTYPE=text/html:<span style="color:#222222\;"><span style="font-family:georgia\,serif\;"><span style="font-size:9.0pt\;">The seventh annual <strong>Rockin&#39\; Taco Street Fest</strong> is&nbsp\;Saturday\, Sept. 15 from 12 to 9 p.m.&nbsp\;Pre-sale tickets are $10. For more information\, visit the Rockin&#39\; Taco <a href="https://downtownchandler.us4.list-manage.com/track/click?u=fef0434c5faff0420463e9324&amp\;id=bcef536e6a&amp\;e=6dd40dacc9" target="_blank"><span style="color:#00ADD8\;">website.</span></a>&nbsp\; To view event map:&nbsp\;<a href="https://downtownchandler.us4.list-manage.com/track/click?u=fef0434c5faff0420463e9324&amp\;id=2f86df0729&amp\;e=6dd40dacc9" target="_blank"><span style="color:#00ADD8\;">Rockin&#39\; Taco</span></a>.</span></span></span>
LOCATION:Down Town Chandler
UID:e.1561.34167
SEQUENCE:3
DTSTAMP:20260423T124215Z
URL:https://business.chandlerchamber.com/events/details/rockin-taco-street-fest-34167
END:VEVENT

END:VCALENDAR
