BEGIN:VCALENDAR
VERSION:2.0
PRODID:-//ChamberMaster//Event Calendar 2.0//EN
METHOD:PUBLISH
X-PUBLISHED-TTL:P3D
REFRESH-INTERVAL:P3D
CALSCALE:GREGORIAN
BEGIN:VEVENT
DTSTART:20260328T200000Z
DTEND:20260329T020000Z
X-MICROSOFT-CDO-ALLDAYEVENT:FALSE
SUMMARY:Rosé Disco Wine Festival at Tempe Beach Park
DESCRIPTION:Ros  Disco Wine Festival returns on Saturday\, March 28\, 2026\, from 1 p.m. to 7 p.m. at Tempe Beach Park in Tempe\, Arizona. This premier Arizona wine festival brings together ros  wine lovers\, top DJs\, and elevated culinary experiences for an all-day outdoor celebration. The pink-and-white themed festival features tastings from over 20 wineries\, showcasing ros s from around the world\, from Provence favorites to Arizona wineries\, alongside chef pop-ups including Prince Street Pizza and Cala Scottsdale. Guests can dance to live DJ sets from Zerb\, Frank Walker\, TELYKAST\, me n  \, and Ryan Sheppard\, and explore Instagrammable photo activations\, bubble guns\, pink umbrellas\, VIP tables\, and more. Ros  Disco Wine Festival is one of the most anticipated Tempe events of the spring\, blending wine\, music\, and style in a high-energy festival atmosphere. Tickets range from $32 to $115\, with VIP table experiences available\, so secure tickets early for this must-attend ros  wine festival in Arizona!
X-ALT-DESC;FMTTYPE=text/html:Ros&eacute\; Disco Wine Festival returns on Saturday\, March 28\, 2026\, from 1 p.m. to 7 p.m. at Tempe Beach Park in Tempe\, Arizona. This premier Arizona wine festival brings together ros&eacute\; wine lovers\, top DJs\, and elevated culinary experiences for an all-day outdoor celebration. The pink-and-white themed festival features tastings from over 20 wineries\, showcasing ros&eacute\;s from around the world\, from Provence favorites to Arizona wineries\, alongside chef pop-ups including Prince Street Pizza and Cala Scottsdale. Guests can dance to live DJ sets from Zerb\, Frank Walker\, TELYKAST\, me n &uuml\;\, and Ryan Sheppard\, and explore Instagrammable photo activations\, bubble guns\, pink umbrellas\, VIP tables\, and more. Ros&eacute\; Disco Wine Festival is one of the most anticipated Tempe events of the spring\, blending wine\, music\, and style in a high-energy festival atmosphere. Tickets range from $32 to $115\, with VIP table experiences available\, so secure tickets early for this must-attend ros&eacute\; wine festival in Arizona!
LOCATION:80 W Rio Salado Pkwy\, Tempe\, AZ 85281
UID:e.1561.52223
SEQUENCE:3
DTSTAMP:20260424T022539Z
URL:https://business.chandlerchamber.com/events/details/ros&#233;-disco-wine-festival-at-tempe-beach-park-52223
END:VEVENT

END:VCALENDAR
