BEGIN:VCALENDAR
VERSION:2.0
PRODID:-//ChamberMaster//Event Calendar 2.0//EN
METHOD:PUBLISH
X-PUBLISHED-TTL:P3D
REFRESH-INTERVAL:P3D
CALSCALE:GREGORIAN
BEGIN:VEVENT
DTSTART:20171017T203000Z
DTEND:20171017T213000Z
X-MICROSOFT-CDO-ALLDAYEVENT:FALSE
SUMMARY:Saba's Western Wear- Ribbon Cutting
DESCRIPTION:Join the Chandler Chamber for a ribbon cutting at Saba's Western Wear\n\n*Thank you to our ribbon cutting sponsor Laser Creations*
X-ALT-DESC;FMTTYPE=text/html:Join the Chandler Chamber for a ribbon cutting at Saba&#39\;s Western Wear<br />\n*Thank you to our ribbon cutting sponsor Laser Creations*
LOCATION:67 W Boston St Chandler\, AZ.\, 85225
UID:e.1561.19183
SEQUENCE:3
DTSTAMP:20260424T035215Z
URL:https://business.chandlerchamber.com/events/details/saba-s-western-wear-ribbon-cutting-19183
END:VEVENT

END:VCALENDAR
